BEGIN:VCALENDAR
VERSION:2.0
PRODID:-//ChamberMaster//Event Calendar 2.0//EN
METHOD:PUBLISH
X-PUBLISHED-TTL:P1H
REFRESH-INTERVAL:P1H
CALSCALE:GREGORIAN
BEGIN:VTIMEZONE
TZID:America/Chicago
BEGIN:DAYLIGHT
RRULE:FREQ=YEARLY;BYMONTH=3;BYDAY=2SU
DTSTART:20070101T000000
TZOFFSETFROM:-0600
TZOFFSETTO:-0500
TZNAME:Central Daylight Time
END:DAYLIGHT
BEGIN:STANDARD
RRULE:FREQ=YEARLY;BYMONTH=11;BYDAY=1SU
DTSTART:20070101T000000
TZOFFSETFROM:-0500
TZOFFSETTO:-0600
TZNAME:Central Standard Time
END:STANDARD
END:VTIMEZONE
BEGIN:VEVENT
DTSTART;TZID=America/Chicago:20260501T190000
DTEND;TZID=America/Chicago:20260501T210000
X-MICROSOFT-CDO-ALLDAYEVENT:FALSE
SUMMARY:TMA PAC After Party
DESCRIPTION:This is the Annual TMA PAC Fundraiser at House of Delegates Weekend. This is the After Party...special guest speaker\, live music with Chips and Salsa band\, dinner and drinks\, firepit\, and games on the terrace.Separate registration and contribution required for all attendees. With provided code\, Capitol Hill Club members attend free and Advocacy level PAC members receive discounted pricing. Please reach out if you need the code.
X-ALT-DESC;FMTTYPE=text/html:<!DOCTYPE html><html><head><title></title></head><body aria-disabled="false"><p>This is the Annual TMA PAC Fundraiser at House of Delegates Weekend. This is the After Party...special guest speaker\, live music with Chips and Salsa band\, dinner and drinks\, firepit\, and games on the terrace.</p><p>Separate registration and contribution required for all attendees. With provided code\, Capitol Hill Club members attend free and Advocacy level PAC members receive discounted pricing. Please reach out if you need the code.</p></body></html>
LOCATION:700 Cool Springs Blvd Franklin TN 37067-2696
UID:e.4036.1438838
SEQUENCE:3
DTSTAMP:20260425T202615Z
URL:https://members.tnmed.org/eventcalendar/Details/tma-pac-after-party-1703037?sourceTypeId=Hub
END:VEVENT
END:VCALENDAR
